BEGIN:VCALENDAR
VERSION:2.0
PRODID:-//110.173.135.113//NONSGML kigkonsult.se iCalcreator 2.26.9//
CALSCALE:GREGORIAN
METHOD:PUBLISH
X-WR-CALNAME:The Durack Tavern Brisbane
X-WR-CALDESC:Bar\, Lounge\, Bistro\, Pokies\, TAB\, Bottle Shop
X-FROM-URL:https://duracktavern.com.au
X-WR-TIMEZONE:Australia/Brisbane
BEGIN:VTIMEZONE
TZID:Australia/Brisbane
X-LIC-LOCATION:Australia/Brisbane
BEGIN:STANDARD
DTSTART:19920301T030000
TZOFFSETFROM:+1100
TZOFFSETTO:+1000
TZNAME:AEST
END:STANDARD
END:VTIMEZONE
BEGIN:VEVENT
UID:ai1ec-1036@duracktavern.com.au
DTSTAMP:20210223T233934Z
CATEGORIES:
CONTACT:
DESCRIPTION:<p>“FREE Friday Sausage Sizzle Bottle O” every Friday between 4
 .30 – 5.30 in our drive through Bottle O we are offering our valued custom
 ers a free sausage with any purchase.</p>\n<p>Check out our great range of
  value offers</p>
DTSTART;TZID=Australia/Brisbane:20180302T163000
DTEND;TZID=Australia/Brisbane:20180302T173000
RRULE:FREQ=WEEKLY
SEQUENCE:0
SUMMARY:“FREE Friday Sausage Sizzle Bottle O” Fridays 4.30 – 5.30
URL:https://duracktavern.com.au/event/free-friday-sausage-sizzle-bottle-o-f
 ridays-4-30-5-30/
X-COST-TYPE:free
END:VEVENT
END:VCALENDAR
