BEGIN:VCALENDAR
VERSION:2.0
PRODID:-//110.173.135.113//NONSGML kigkonsult.se iCalcreator 2.26.9//
CALSCALE:GREGORIAN
METHOD:PUBLISH
X-WR-CALNAME:The Durack Tavern Brisbane
X-WR-CALDESC:Bar\, Lounge\, Bistro\, Pokies\, TAB\, Bottle Shop
X-FROM-URL:https://duracktavern.com.au
X-WR-TIMEZONE:Australia/Brisbane
BEGIN:VTIMEZONE
TZID:Australia/Brisbane
X-LIC-LOCATION:Australia/Brisbane
BEGIN:STANDARD
DTSTART:19920301T030000
TZOFFSETFROM:+1100
TZOFFSETTO:+1000
TZNAME:AEST
END:STANDARD
END:VTIMEZONE
BEGIN:VEVENT
UID:ai1ec-943@duracktavern.com.au/beta
DTSTAMP:20210223T234607Z
CATEGORIES:
CONTACT:
DESCRIPTION:<p>Catch all the Sporting Action LIVE on our BIG Screen TV tele
 cast in HD via our 3 Fox Sports Channels</p>
DTSTART;VALUE=DATE:20180224
DTEND;VALUE=DATE:20180225
RRULE:FREQ=WEEKLY;BYDAY=SA;WKST=SU
SEQUENCE:0
SUMMARY:Sporting Action LIVE on TV
URL:https://duracktavern.com.au/event/sporting-action-live-tv/
X-COST-TYPE:free
END:VEVENT
END:VCALENDAR
